{"text_format":"3","workbook":"xlsx","n_sheets":6,"sheets":["PRISLISTE NAT.","PRISBEREGNER NAT.","PRISOVERSLAG ARKÆO.","PRISLISTE KONS.","PRISBEREGNER KONS.","LOG"],"not_rendered":{"images":2,"defined_names":4},"read":"row_number_cap","date_system":"1900"}

{"sheet":"PRISLISTE NAT.","index":0,"n_rows":110,"n_cols":6,"rows_kept":110,"merged":[[1,1,1,5],[2,1,2,2],[2,4,2,5],[4,1,4,3],[4,4,4,5],[7,1,7,5],[13,4,13,5],[14,1,14,5],[18,1,18,5],[22,1,22,5],[24,1,25,1],[24,2,25,2],[26,1,27,1],[26,2,27,2],[29,1,30,1],[31,1,31,5],[32,1,34,1],[32,2,34,2],[35,1,37,1],[35,2,37,2],[38,1,39,1],[38,2,39,2],[41,1,41,5],[45,1,47,1],[45,2,47,2],[48,1,48,5],[49,1,51,1],[49,2,51,2],[52,1,52,5],[55,1,57,1],[56,2,57,2],[58,4,58,5],[59,1,59,5],[61,1,63,1],[64,1,65,1],[66,1,69,1],[70,1,72,1],[74,1,74,5],[80,1,80,5],[84,1,84,5],[85,4,85,5],[86,1,86,5],[90,1,90,5],[94,1,94,5],[95,4,95,5],[96,1,96,5],[97,4,97,5],[98,4,98,5],[99,4,99,5],[100,4,100,5],[101,1,101,5],[106,1,106,5],[107,1,108,1],[107,2,108,2],[108,4,108,5],[109,4,109,5],[110,1,110,5]]}
[]
[]
[null,"PRISLISTE NATURVIDENSKAB"]
[]
[null," Priser gældende fra november 2025. Fra 2022 og frem indeksreguleres timeprisen halvårligt den 1/4 og 1/10. \n Man er altid velkommen til (omkostningsfrit) at ringe til afdelingen med sprøgsmål. \n Alle priser er vejledende. Ret til ændringer forbeholdes."]
[null," Kontakt afdelingen: 87 39 40 41",null,null,"Timepris (kr. ex. moms):",{"v":688.5,"d":"688.50 kr."}]
[null,"POST","KOMMENTAR / BESKRIVELSE","PRØVETYPE","PRIS EX. MOMS (kr.)"]
[null,"KONSULENTSERVICE - Vi anbefaler at ansøge om konsulentservice i forbindelse med budgetplanlægning"]
[null,"Strategimøde (telefonisk)","F.eks. via skype",null,{"$f":"$F$6","v":{"v":688.5,"d":"688.50 kr."}},"pr. time"]
[null,"Strategimøde i felten","Ekskl. kørsel",null,{"$f":"$F$6","v":{"v":688.5,"d":"688.50 kr."}},"pr. time"]
[null,"Prøveudtagning/feltarbejde","Ekskl. kørsel og felttillæg",null,{"v":688.5,"d":"688.50 kr."},"pr. time"]
[null,"Kørsel","Tur-retur mellem Moesgård og lokalitet",null,{"v":3.81,"d":"3.81 kr."},"pr. km"]
[null,"Felttillæg","Ved feltarbejde",null,{"v":100,"d":"100.00 kr."},"pr. dag"]
[null,"Andre udgifter","Fx overnatning",null,"Kontakt afdelingen: 87 39 40 41"]
[null,"PRØVEFORARBEJDNING"]
[null,"Flotering","Max. 5 liters jordprøve",null,{"v":456,"d":"456.00 kr."},"pr. prøve"]
[null,"Vådsoldning (1-2mm)","Max. 5 liters jordprøve. Soldning til f.eks. screening af knogler",null,{"$f":"$E$16*2","v":{"v":912,"d":"912.00 kr."}},"pr. prøve"]
[null,"Vådsoldning (0,25-2mm)","Max. 5 liters jordprøve. Soldning til f.eks. screening af makrofossiler og smedeskæl",null,{"$f":"$E$16*5","v":{"v":2280,"d":"2,280.00 kr."}},"pr. prøve"]
[null,"KERNEBORINGER"]
[null,"Startgebyr ",null,null,{"$f":"$F$6*1.5","v":{"v":1032.75,"d":"1,032.75 kr."}},"pr. sag"]
[null,"Vedligehold","Udgifter til vedligeholdelse af boreudstyr, benzin, olie etc. ",null,{"v":1000,"d":"1,000.00 kr."},"pr. sag"]
[null,"Kerneboring/feltarbejde","Ekskl. Kørsel og felttillæg. Dobbelt timepris da boret betjenes af to personer.\nEn kerneboring på 2-3 meter i dybden tager som tommelfingerregel cirka 50 minutter at bore. Det vil sige man kan nå 7-8 boringer på 2-3 meter i dybden i løbet af en dag. \nFor anden information Kontakt afdelingen: 87 39 40 41s geolog Jesper Petersen (jep@moesgaardmuseum.dk)",null,{"$f":"$F$6*2","v":{"v":1377,"d":"1,377.00 kr."}},"pr. time"]
[null,"MAKROFOSSILER"]
[null,"Startgebyr ",null,null,{"$f":"$F$6*1.5","v":{"v":1032.75,"d":"1,032.75 kr."}},"pr. sag"]
[null,"Kursorisk gennemsyn","Typisk ekspeditionstid 3-4 måneder","Tørt",{"v":160,"d":"160.00 kr."},"pr. prøve"]
[{"$nulls":3},"Vådt",{"$f":"$F$6*2","v":{"v":1377,"d":"1,377.00 kr."}},"pr. prøve"]
[null,"Ekspres kursorisk gennemsyn","Typisk ekspeditionstid 3-4 uger","Tørt",{"$f":"$E$25*1.5","v":{"v":240,"d":"240.00 kr."}},"pr. prøve"]
[{"$nulls":3},"Vådt",{"$f":"$E$26*1.5","v":{"v":2065.5,"d":"2,065.50 kr."}},"pr. prøve"]
[null,"Ompakning af prøver ifm. gennemsyn","F.eks. ved adskillelse af arkæologiske fund fra makrofossiler og prøver i stofposer, hvor ompakning er nødvendig",null,{"v":34,"d":"34.00 kr."},"pr. prøve"]
[null,"Analyse med rapport","Kontakt evt. afdelingen eller benyt timeantal fra specifikke tilbud",null,{"$f":"$F$6","v":{"v":688.5,"d":"688.50 kr."}},"pr. time"]
[null,null,"Definerede priser ifm. specifikke fund og anlægstyper, se arket Prisoverslag Arkæobotanik",null,"se Prisoverslag Arkæobotanik"]
[null,"UDTAGNING TIL 14C-DATERING - OBS! Ved flere end 100 udtagninger til 14C-datering fra samme sag gives 20 % rabat"]
[null,"Udtagning til 14C","Typisk ekspeditionstid 8-12 uger","1. prøve",{"v":842,"d":"842.00 kr."}]
[{"$nulls":3},"2. og 3. prøve",{"v":735,"d":"735.00 kr."},"pr. prøve"]
[{"$nulls":3},"Efterfølgende prøver",{"v":700,"d":"700.00 kr."},"pr. prøve"]
[null,"Ekspres udtagning til 14C","Typisk ekspeditionstid 2-3 uger","1. prøve",{"$f":"E33*1.5","v":{"v":1263,"d":"1,263.00 kr."}}]
[{"$nulls":3},"2. og 3. prøve",{"$f":"E34*1.5","v":{"v":1102.5,"d":"1,102.50 kr."}},"pr. prøve"]
[{"$nulls":3},"Efterfølgende prøver",{"$f":"E35*1.5","v":{"v":1050,"d":"1,050.00 kr."}},"pr. prøve"]
[null,"Wiggle-match udtagning","OBS! Ved Wiggelmatching anbefales, at man begynder med en enkelt datering for at se, hvor på 14C -kurven dateringen ligger. Herefter kan de øvrige prøver dateres. Dette aftales med dateringslaboratoriet","Udtagning af 3 prøver fra et emne",{"$f":"$F$6*4","v":{"v":2754,"d":"2,754.00 kr."}},"pr. emne"]
[{"$nulls":3},"Udtagning af 5 prøver fra et emne ",{"$f":"$F$6*6","v":{"v":4131,"d":"4,131.00 kr."}},"pr. emne"]
[null,"Indtastning til Poznan ",null,null,{"v":31,"d":"31.00 kr."},"pr. prøve"]
[null,"TRÆKUL"]
[null,"Startgebyr ",null,null,{"$f":"$F$6*1.5","v":{"v":1032.75,"d":"1,032.75 kr."}},"pr. sag"]
[null,"Kursorisk vedgennemsyn","Inkl. grundlæggende rapport, som inkluderer prøvevurdering og bestemmelse af 10 stykker trækul",null,{"$f":"$F$6*2","v":{"v":1377,"d":"1,377.00 kr."}},"pr. prøve"]
[null,"Vedanalyse","Ekskl. rapport. Inkluderer bestemmelse af op til 30 stk. trækul. Identifikationsantallet er med forbehold i bevarings- og fragmentationsgrad",null,{"$f":"$F$6*6","v":{"v":4131,"d":"4,131.00 kr."}},"pr. prøve"]
[null,"Rapport","Typisk ekspeditionstid 8-12 måneder","Til og med 4 prøver = 2 timer",{"$f":"$F$6*2","v":{"v":1377,"d":"1,377.00 kr."}},"pr. rapport"]
[{"$nulls":3},"5-9 prøver = 8 timer",{"$f":"$F$6*8","v":{"v":5508,"d":"5,508.00 kr."}},"pr. rapport"]
[{"$nulls":3},"Flere end 9 prøver = 16 timer",{"$f":"$F$6*16","v":{"v":11016,"d":"11,016.00 kr."}},"pr. rapport"]
[null,"VANDDRUKKENT/UFORKULLET TRÆ"]
[null,"Vedbestemmelse","Inkl. grundlæggende rapport","1. prøve",{"$f":"$F$6*2","v":{"v":1377,"d":"1,377.00 kr."}}]
[{"$nulls":3},"2. og 3. prøve",{"$f":"$F$6*1.75","v":{"v":1204.875,"d":"1,204.88 kr."}},"pr. prøve"]
[{"$nulls":3},"Efterfølgende prøver",{"$f":"$F$6*1.5","v":{"v":1032.75,"d":"1,032.75 kr."}},"pr. prøve"]
[null,"DENDROKRONOLOGI"]
[null,"Startgebyr ",null,null,{"$f":"$F$6*1.5","v":{"v":1032.75,"d":"1,032.75 kr."}},"pr. sag"]
[null,"Kursorisk gennemsyn","Vurderingspris pr. prøve",null,{"$f":"$F$6*0.25","v":{"v":172.125,"d":"172.13 kr."}},"pr. prøve"]
[null,"Dendrokronologisk datering","Startgebyr for datering",null,{"$f":"$F$6*2","v":{"v":1377,"d":"1,377.00 kr."}},"pr. sag"]
[null,null,"Typisk ekspeditionstid 1-2 måneder","Arkæologiske fund",{"$f":"$F$6*2","v":{"v":1377,"d":"1,377.00 kr."}},"pr. prøve"]
[{"$nulls":3},"Stående bygninger (fx. boreprøver)",{"$f":"$F$6","v":{"v":688.5,"d":"688.50 kr."}},"pr. prøve"]
[null,"Prøveudtagning (fx boreprøver)","Se prøveudtagning/feltarbejde under KONSULENTSERVICE",null,"Kontakt afdelingen: 87 39 40 41"]
[null,"KNOGLER"]
[null,"Startgebyr",null,null,{"$f":"$F$6*1.5","v":{"v":1032.75,"d":"1,032.75 kr."}},"pr. sag"]
[null,"Kursorisk gennemsyn","Udsortering og vurdering af knogler fra soldeprøver.","Udsortering af knogler (ex. soldning)",{"$f":"$F$6","v":{"v":688.5,"d":"688.50 kr."}},"pr. time"]
[null,null,"Udsortering og vurdering af knogler fra soldeprøver (finsoldning)","Screening af 5L soldeprøve (ex. soldning)",{"$f":"$F$6","v":{"v":688.5,"d":"688.50 kr."}},"pr. prøve"]
[null,null,"Ved større sager: Udvælgelse af delmateriale til analyse","Udvælgelse til analyse",{"$f":"$F$6","v":{"v":688.5,"d":"688.50 kr."}},"pr. time"]
[null,"Zooarkæologi","Tilbud udfærdiges på baggrund af prøvestørrelse, sammensætning (pattedyr/fisk, brændt/ubrændt etc.) og problemstilling","Zooarkæologisk analyse",{"$f":"$F$6","v":{"v":688.5,"d":"688.50 kr."}},"pr. time"]
[null,null,"Analyse af dyreknogler i brandgrave. Tilbud udfærdiges på baggrund af prøvestørrelse.","Zooarkæologisk analyse (brandgrav)",{"$f":"$F$6","v":{"v":688.5,"d":"688.50 kr."}},"pr. time"]
[null,"Humanosteologi","Kursorisk gennemsyn af brændtbensansamlinger (dyr eller menneske?) samt vurdring af potentiale (egnet til analyse?)","Brandgrave/brændtbens-ansamlinger",{"$f":"$F$6*1.5","v":{"v":1032.75,"d":"1,032.75 kr."}},"pr. kontekst/grav"]
[null,null,"Detaljeret analyse af kursorisk gennemset materiale (brandgrav)","Brandgrav (kursorisk gennemset mat.)",{"$f":"$F$6*3","v":{"v":2065.5,"d":"2,065.50 kr."}},"pr. kontekst/grav"]
[null,null,"Analyse af jordfæstebegravelser, moseskeletter og  kremeret materiale","Grav (ugennemset mat.)",{"$f":"$F$6*4","v":{"v":2754,"d":"2,754.00 kr."}},"pr. skelet"]
[null,null,"Analyse af delvist bevarede ubrændte skeletter (50 % bevaret og herunder)","Grav (½ skelet)",{"$f":"$F$6*2","v":{"v":1377,"d":"1,377.00 kr."}},"pr. skelet"]
[null,"Udtagning til 14C- og isotopanalyser","Artsbestememlse og udtagning af knogler til 14C og Isotopanlayser","1. prøve",{"v":830,"d":"830.00 kr."}]
[{"$nulls":3},"2. og 3. prøve",{"v":725,"d":"725.00 kr."},"pr. prøve"]
[null,null,"Ved mere end 100 prøver fa samme sag gives 20% rabat","Efterfølgende prøver",{"v":690,"d":"690.00 kr."},"pr. prøve"]
[null,"Levering til Zoologisk Museum/ADBOU","Levering af knoglemateriale til Zoologisk Museum og ADBOU. Ved meget store mængder knogler - Kontakt afdelingen: 87 39 40 41","Levering af knogler",{"$f":"$F$6*2.5","v":{"v":1721.25,"d":"1,721.25 kr."}},"pr. sag"]
[null,"POLLEN"]
[null,"Startgebyr",null,null,{"$f":"$F$6*1.5+$E$108","v":{"v":1367.75,"d":"1,367.75 kr."}},"pr. sag"]
[null,"Kursorisk gennemsyn","Inkl. præparation. Tillæg for anvendt tid ved prøveudtagning fra søjler",null,{"$f":"$F$6*4","v":{"v":2754,"d":"2,754.00 kr."}},"pr. prøve"]
[null,"Analyse","Inkl. rapport. Pris udregnes med baggrund i kursoriske gennemsyn",null,"Kontakt afdelingen: 87 39 40 41"]
[null,"Prøveudtagning","Af pollensøjle. 2 timer pr. søjle",null,{"$f":"$F$6*2","v":{"v":1377,"d":"1,377.00 kr."}},"pr. søjle"]
[null,"Frysetørring","Af pollensøjle",null,{"$f":"$F$6*3","v":{"v":2065.5,"d":"2,065.50 kr."}},"pr. søjle"]
[null,"NON-POLLEN PALYNOMORPHS (NPP)"]
[null,"Startgebyr",null,null,{"$f":"$F$6*1.5+$E$108","v":{"v":1367.75,"d":"1,367.75 kr."}},"pr. sag"]
[null,"Kursorisk gennemsyn","Inkl. præparation",null,{"$f":"$F$6*10","v":{"v":6885,"d":"6,885.00 kr."}},"pr. prøve"]
[null,"Analyse ","Aftales efter det kursoriske gennemsyn",null,"Kontakt afdelingen: 87 39 40 41"]
[null,"TEFRA"]
[null,"Analyse ",null,null,"Kontakt afdelingen: 87 39 40 41"]
[null,"INSEKTER"]
[null,"Startgebyr",null,null,{"$f":"$F$6*1.5","v":{"v":1032.75,"d":"1,032.75 kr."}},"pr. sag"]
[null,"Screening","Vådsoldning max. 5 liters jordprøve. Screening/kursorisk gennemsyn for insektdele",null,{"$f":"$F$6*3.5","v":{"v":2409.75,"d":"2,409.75 kr."}},"pr. prøve"]
[null,"Analyse","Entomologisk analyse inkl. rapport",null,{"$f":"$F$6*10","v":{"v":6885,"d":"6,885.00 kr."}},"pr. prøve"]
[null,"SLAGGER"]
[null,"Startgebyr",null,null,{"$f":"$F$6*1.5","v":{"v":1032.75,"d":"1,032.75 kr."}},"pr. sag"]
[null,"Kursorisk vurdering","Ekskl. rapport"," Slagger & ovnfragmenter",{"$f":"$F$6","v":{"v":688.5,"d":"688.50 kr."}},"pr. time"]
[null,"Rapport",null,null,{"$f":"$F$6*2","v":{"v":1377,"d":"1,377.00 kr."}},"pr. rapport"]
[null,"TYNDSLIB"]
[null,"Analyse","Vejledning og videreformidling til underleverandør",null,"Kontakt afdelingen: 87 39 40 41"]
[null,"MATERIALEANALYSER - Se PRISLISTE KONS. for følgende materialeanalyser"]
[null,"Artsbestemmelse","Af læder og hud",null,"Se PRISLISTE KONS."]
[null,"Fiberidentifikation ","Af tekstil og pels",null,"Se PRISLISTE KONS."]
[null,"Spottest ","Metalidentifikation",null,"Se PRISLISTE KONS."]
[null,"Lipidanalyse","Udtagning, forsendelse, videreformidling til underleverandør og tolkning",null,"Se PRISLISTE KONS."]
[null,"CT-SCANNING & RØNTGEN"]
[null,"Startgebyr",null,null,{"$f":"$F$6*2.5","v":{"v":1721.25,"d":"1,721.25 kr."}},"pr. sag"]
[null,"CT-scanning","Fx urner. Max 3 urner pr. scanning (ekskl. 1 times transport)",null,{"v":2500,"d":"2,500.00 kr."},"pr. scanningstime"]
[null,"mikro CT-scanning ","Fx trægenstande ifbm. dendrokronologi (ekskl. 1 times transport)",null,{"v":2500,"d":"2,500.00 kr."},"pr. scanningstime"]
[null,"Kørsel (til og fra CT-scanning)",null,null,{"v":3.81,"d":"3.81 kr."},"pr. km"]
[null,"FORSENDELSE, SAMMENSKRIVNING MM."]
[null,"Forsendelse (pr. sag)","Ved rekommanderet forsendelse af prøver inden for Europa ","<2 kg",{"v":335,"d":"335.00 kr."},"pr. sag"]
[{"$nulls":3},">2 kg","Kontakt afdelingen: 87 39 40 41"]
[null,"Sammenskrivning","Sammenskrivning af flere analyser fra én specifik sag/udgravning (Kontakt afdelingen: 87 39 40 41) ",null,"Kontakt afdelingen: 87 39 40 41"]

{"sheet":"PRISBEREGNER NAT.","index":1,"n_rows":149,"n_cols":9,"rows_kept":149,"merged":[[4,1,4,5],[5,1,5,5],[6,1,6,5],[29,1,30,1],[31,1,32,1],[34,1,35,1],[40,1,41,1],[56,1,58,1],[62,1,64,1],[65,1,66,1],[67,1,70,1],[110,1,111,1],[149,1,149,8]],"read":"row_number_cap"}
[]
[]
[null,"PRISBEREGNER NATURVIDENSKAB",{"$nulls":6},{"$error":"#VALUE!"}]
[]
[null," Skemaets beregninger er baseret på priserne fra arket \"PRISLISTE NATURVIDENSKAB\". Se dette ark for uddybende kommentarer angående priserne.",{"$nulls":5},"DATO"]
[null," Skemaet kan benyttes til at udregne priser og skabe overblik over naturvidenskablige undersøgelser ifm. ansøgninger til Slots- og Kulturstyrelsen. ",{"$nulls":5},"JOURNAL NR."]
[null," I de gule felter i kolonne E indtastes det ønskede/forventede antal af de relevante ydelser for den givne lokalitet. Alle priser er vejledende. "]
[{"$nulls":7},"Timepris (kr. ex. moms):",{"v":688.5,"d":"688.50 kr."}]
[null,"POST","PRØVETYPE / KOMMENTAR","PRIS PR. ENHED","ANTAL",null,"PRIS EX. MOMS","MOMS","PRIS INKL. MOMS"]
[null,"KONSULENTSERVICE"]
[null,"Strategimøde (telefonisk)","F.eks. via skype",{"$f":"$I$8","v":{"v":688.5,"d":"688.50 kr."}},null,"timer",{"$f":"D11*E11","v":0},{"$f":"G11*0.25","v":0},{"$f":"SUM(G11:H11)","v":0}]
[null,"Strategimøde i felten","Ekskl. kørsel",{"$f":"$I$8","v":{"v":688.5,"d":"688.50 kr."}},null,"timer",{"$f":"D12*E12","v":0},0,0]
[null,"Prøveudtagning/feltarbejde","Ekskl. kørsel og felttillæg",{"$f":"$I$8","v":{"v":688.5,"d":"688.50 kr."}},null,"timer",{"$f":"D13*E13","v":0},0,0]
[null,"Kørsel","T/r Moesgård-lokalitet",{"$f":"'PRISLISTE NAT.'!E12","v":{"v":3.81,"d":"3.81 kr."}},null,"km",{"$f":"D14*E14","v":0},0,0]
[null,"Felttillæg","Pr. dag",{"$f":"'PRISLISTE NAT.'!E13","v":{"v":100,"d":"100.00 kr."}},null,"dage",{"$f":"D15*E15","v":0},0,0]
[null,"Andre udgifter","Fx overnatning",null,"kr.",null,{"$f":"SUM(D16)","v":0},0,0]
[null,"SAMLET",{"$nulls":4},{"$f":"SUM(G11:G16)","v":0},{"$f":"SUM(H11:H16)","v":0},{"$f":"SUM(I11:I16)","v":0}]
[null,"PRØVEFORARBEJDNING"]
[null,"Flotering","5 L jordprøve",{"$f":"'PRISLISTE NAT.'!$E$16","v":{"v":456,"d":"456.00 kr."}},null,"prøver",{"$f":"D19*E19","v":0},{"$f":"G19*0.25","v":0},{"$f":"SUM(G19:H19)","v":0}]
[null,"Vådsoldning (1-2mm)","Max. 5 L jord. F.eks. til screning af knogler",{"$f":"$D$19*2","v":{"v":912,"d":"912.00 kr."}},null,"prøver",{"$f":"D20*E20","v":0},{"$f":"G20*0.25","v":0},{"$f":"SUM(G20:H20)","v":0}]
[null,"Vådsoldning (0,25-2mm)","Max. 5 L jord. Til screening af insekter, smedeskæl osv.",{"$f":"D19*5","v":{"v":2280,"d":"2,280.00 kr."}},null,"prøver",0,0,{"$f":"SUM(G21:H21)","v":0}]
[null,"SAMLET",{"$nulls":4},{"$f":"SUM(G19:G21)","v":0},{"$f":"SUM(H19:H21)","v":0},{"$f":"SUM(I19:I21)","v":0}]
[null,"KERNEBORINGER"]
[null,"Startgebyr pr. ny sag ","      Startgebyr ekskluderes (forsættelse af sag)",null,false,null,{"$f":"IF(E24=TRUE(),,IF(E26>0,$I$8*1.5,))","v":0},{"$f":"G24*0.25","v":0},{"$f":"SUM(G24:H24)","v":0}]
[null,"Vedligehold",{"$nulls":4},{"$f":"IF(E26>0,1000,)","v":0}]
[null,"Kerneboring/feltarbejde","Kontakt afdelingen (Tlf. 87 39 40 41)",{"$f":"$I$8*2","v":{"v":1377,"d":"1,377.00 kr."}},null,"timer",{"$f":"D26*E26","v":0},{"$f":"G26*0.25","v":0},{"$f":"SUM(G26:H26)","v":0}]
[null,"SAMLET",{"$nulls":4},{"$f":"SUM(G24:G26)","v":0},{"$f":"SUM(H24:H26)","v":0},{"$f":"SUM(I24:I26)","v":0}]
[null,"MAKROFOSSILER"]
[null,"Startgebyr pr. ny sag ","      Startgebyr ekskluderes (forsættelse af sag)",null,false,null,{"$f":"IF(E29=TRUE(),,IF(OR(E30>0,E31>0,E32>0,E33>0,E35>0),$I$8*1.5,))","v":0},{"$f":"G29*0.25","v":0},{"$f":"SUM(G29:H29)","v":0}]
[null,"Kursorisk gennemsyn","Tørt",{"$f":"'PRISLISTE NAT.'!$E$25","v":{"v":160,"d":"160.00 kr."}},null,"prøver",{"$f":"D30*E30","v":0},{"$f":"G30*0.25","v":0},0]
[null,null,"Vådt",{"$f":"'PRISLISTE NAT.'!E26","v":{"v":1377,"d":"1,377.00 kr."}},null,"prøver",{"$f":"D31*E31","v":0},0,0]
[null,"Ekspres kursorisk gennemsyn","Tørt",{"$f":"'PRISLISTE NAT.'!E27","v":{"v":240,"d":"240.00 kr."}},null,"prøver",0,0,0]
[null,null,"Vådt",{"$f":"'PRISLISTE NAT.'!E28","v":{"v":2065.5,"d":"2,065.50 kr."}},null,"prøver",0,0,0]
[null,"Ompakning af prøver ifm. gennemsyn",null,{"$f":"'PRISLISTE NAT.'!$E$29","v":{"v":34,"d":"34.00 kr."}},null,"prøver",0,0,0]
[null,"Analyse med rapport","Kontakt afdelingen (Tlf. 87 39 40 41)",{"$f":"I8","v":{"v":688.5,"d":"688.50 kr."}},null,"timer",0,0,0]
[{"$nulls":4},"se evt. Prisoverslag Arkæobotanik",null,{"$f":"'PRISOVERSLAG ARKÆO.'!E20","v":0},{"$f":"'PRISOVERSLAG ARKÆO.'!F20","v":0},{"$f":"'PRISOVERSLAG ARKÆO.'!G20","v":0}]
[null,"SAMLET",{"$nulls":4},{"$f":"SUM(G29:G36)","v":0},{"$f":"SUM(H29:H36)","v":0},{"$f":"SUM(I29:I36)","v":0}]
[null,"UDTAGNING TIL 14C-DATERING"]
[null,"Udtagning til 14C","20% rabat ved 100+ prøver",{"$f":"'PRISLISTE NAT.'!$E$35&\"-\"&'PRISLISTE NAT.'!$E$33&\" kr.\"","v":"700-842 kr."},null,"prøver",{"$f":"IF(E39=1,'PRISLISTE NAT.'!E33,IF(E39=2,('PRISLISTE NAT.'!E33+'PRISLISTE NAT.'!E34),IF(E39=3,('PRISLISTE NAT.'!E33+'PRISLISTE NAT.'!E34+'PRISLISTE NAT.'!E34),IF(AND(E39>3,E39<100),('PRISLISTE NAT.'!E33+'PRISLISTE NAT.'!E34+'PRISLISTE NAT.'!E34+((E39-3)*'PRISLISTE NAT.'!E35)),IF(E39>=100,(('PRISLISTE NAT.'!E33+'PRISLISTE NAT.'!E34+'PRISLISTE NAT.'!E34+(E39-3)*'PRISLISTE NAT.'!E35)*0.8),)))))","v":0},{"$f":"G39*0.25","v":0},{"$f":"SUM(G39:H39)","v":0}]
[null,"Ekspres udtagning til 14C",null,{"$f":"'PRISLISTE NAT.'!$E$38&\"-\"&'PRISLISTE NAT.'!$E$36&\" kr.\"","v":"1050-1263 kr."},null,"prøver",{"$f":"IF(E40=1,'PRISLISTE NAT.'!E36,IF(E40=2,('PRISLISTE NAT.'!E36+'PRISLISTE NAT.'!E37),IF(E40=3,('PRISLISTE NAT.'!E36+'PRISLISTE NAT.'!E37*2),IF(E40>3,('PRISLISTE NAT.'!E36+'PRISLISTE NAT.'!E37*2+(E40-3)*'PRISLISTE NAT.'!E38),))))","v":0},{"$f":"G40*0.25","v":0},{"$f":"SUM(G40:H40)","v":0}]
[null,"Wiggle-match udtagning","3 udt. fra én prøve",{"$f":"'PRISLISTE NAT.'!E39","v":{"v":2754,"d":"2,754.00 kr."}},null,"prøver",{"$f":"D41*E41","v":0},0,0]
[null,null,"5 udt. fra én prøve",{"$f":"'PRISLISTE NAT.'!E40","v":{"v":4131,"d":"4,131.00 kr."}},null,"prøver",{"$f":"D42*E42","v":0},0,0]
[null,"Indtastning til Poznan",null,{"$f":"'PRISLISTE NAT.'!$E$41","v":{"v":31,"d":"31.00 kr."}},null,"prøver",{"$f":"D43*E43","v":0},{"$f":"G43*0.25","v":0},{"$f":"SUM(G43:H43)","v":0}]
[null,"SAMLET",{"$nulls":4},{"$f":"SUM(G39:G43)","v":0},{"$f":"SUM(H39:H43)","v":0},{"$f":"SUM(I39:I43)","v":0}]
[null,"TRÆKUL"]
[null,"Startgebyr pr. ny sag","      Startgebyr ekskluderes (forsættelse af sag)",null,false,null,{"$f":"IF(E46=TRUE(),,IF(OR(E47>0,E48>0),$I$8*1.5,))","v":0},{"$f":"G46*0.25","v":0},{"$f":"SUM(G46:H46)","v":0}]
[null,"Kursorisk vedgennemsyn","Inkl. simpel rapport",{"$f":"$I$8*2","v":{"v":1377,"d":"1,377.00 kr."}},null,"prøver",{"$f":"D47*E47","v":0},0,0]
[null,"Vedanalyse","Ekskl. rapport",{"$f":"$I$8*6","v":{"v":4131,"d":"4,131.00 kr."}},null,"prøver",{"$f":"D48*E48","v":0},0,0]
[null,"Rapport",{"$nulls":4},{"$f":"IF(E48=\"\",,IF(E48<5,$I$8*2,IF(E48<10,$I$8*8,IF(E48>9,$I$8*16,))))","v":0},0,0]
[null,"SAMLET",{"$nulls":4},{"$f":"SUM(G46:G49)","v":0},{"$f":"SUM(H46:H49)","v":0},{"$f":"SUM(I46:I49)","v":0}]
[null,"VANDDRUKKENT TRÆ"]
[null,"Vedbestemmelse","Inkl. grundlæggende rapport",{"$f":"'PRISLISTE NAT.'!$E$52&\"-\"&'PRISLISTE NAT.'!$E$50&\" kr.\"","v":"1032,75-1377 kr."},null,"prøver",{"$f":"IF(E52=1,($I$8*2),IF(E52=2,(($I$8*2)+($I$8*1.75)),IF(E52=3,((($I$8*2)+($I$8*1.75)+($I$8*1.75))),IF(E52>3,((($I$8*2)+($I$8*1.75)+($I$8*1.75))+(E52-3)*($I$8*1.5)),))))","v":0},{"$f":"G52*0.25","v":0},{"$f":"SUM(G52:H52)","v":0}]
[null,"SAMLET",{"$nulls":4},{"$f":"SUM(G52:G52)","v":0},{"$f":"SUM(H52:H52)","v":0},{"$f":"SUM(I52:I52)","v":0}]
[null,"DENDROKRONOLOGI"]
[null,"Startgebyr pr. sag","      Startgebyr ekskluderes (forsættelse af sag)",null,false,null,{"$f":"IF(E55=TRUE(),,IF(OR(E56>0,E58>0,E59>0),$I$8*1.5,))","v":0},{"$f":"G55*0.25","v":0},{"$f":"SUM(G55:H55)","v":0}]
[null,"Kursorisk gennemsyn","Vurderingspris pr. prøve",{"$f":"'PRISLISTE NAT.'!E55","v":{"v":172.125,"d":"172.13 kr."}},null,"prøver",{"$f":"D56*E56","v":0},0,0]
[null,"Dendrokronologisk datering","Opstart for datering",{"$nulls":3},{"$f":"IF(OR(E58>0,E59>0),$I$8*2,)","v":0},{"$f":"G57*0.25","v":0},0]
[null,null,"Arkæologiske fund",{"$f":"'PRISLISTE NAT.'!E57","v":{"v":1377,"d":"1,377.00 kr."}},null,"prøver",{"$f":"D58*E58","v":0},{"$f":"G58*0.25","v":0},0]
[null,null,"Stående bygninger (fx. boreprøver)",{"$f":"'PRISLISTE NAT.'!E58","v":{"v":688.5,"d":"688.50 kr."}},null,"prøver",{"$f":"D59*E59","v":0},{"$f":"G59*0.25","v":0},0]
[null,"SAMLET",{"$nulls":4},{"$f":"SUM(G55:G59)","v":0},{"$f":"SUM(H55:H59)","v":0},{"$f":"SUM(I55:I59)","v":0}]
[null,"KNOGLER"]
[null,"Startgebyr pr. ny sag","      Startgebyr ekskluderes (forsættelse af sag)",null,false,null,{"$f":"IF(E62=TRUE(),,IF(OR(E63>0,E64>0,E65>0,E66>0,E67>0,E68>0,E69>0,E71>0,,E73>0,E70>0,E72>0),$I$8*1.5,))","v":0},{"$f":"G62*0.25","v":0},{"$f":"SUM(G62:H62)","v":0}]
[null,"Kursorisk gennemsyn","Udsortering af knogler (ex. soldning)",{"$f":"'PRISLISTE NAT.'!E62","v":{"v":688.5,"d":"688.50 kr."}},null,"timer",{"$f":"D63*E63","v":0},{"$f":"G63*0.25","v":0},{"$f":"SUM(G63:H63)","v":0}]
[null,null,"Screening af 5L soldeprøve (ex. soldning)",{"$f":"'PRISLISTE NAT.'!E63","v":{"v":688.5,"d":"688.50 kr."}},null,"prøver",{"$f":"D64*E64","v":0},0,0]
[null,null,"Udvælgelse til analyse",{"$f":"'PRISLISTE NAT.'!E64","v":{"v":688.5,"d":"688.50 kr."}},null,"timer",{"$f":"D65*E65","v":0},0,0]
[null,"Zooarkæologi","Zooarkæologisk analyse",{"$f":"'PRISLISTE NAT.'!E65","v":{"v":688.5,"d":"688.50 kr."}},null,"timer",{"$f":"D66*E66","v":0},0,0]
[null,null,"Zooarkæologisk analyse (brandgrav)",{"$f":"'PRISLISTE NAT.'!E66","v":{"v":688.5,"d":"688.50 kr."}},null,"timer",{"$f":"D67*E67","v":0},0,0]
[null,"Humanosteologi","Brandgrave/brændtbens-ansamlinger",{"$f":"'PRISLISTE NAT.'!E67","v":{"v":1032.75,"d":"1,032.75 kr."}},null,"kontekst/grav",{"$f":"D68*E68","v":0},0,0]
[null,null,"Brandgrav (kursorisk gennemset mat.)",{"$f":"'PRISLISTE NAT.'!E68","v":{"v":2065.5,"d":"2,065.50 kr."}},null,"kontekst/grav",0,0,0]
[null,null,"Grav (ugennemset mat.)",{"$f":"'PRISLISTE NAT.'!E69","v":{"v":2754,"d":"2,754.00 kr."}},null,"skelet",0,0,0]
[null,null,"Grav (½ skelet)",{"$f":"'PRISLISTE NAT.'!E70","v":{"v":1377,"d":"1,377.00 kr."}},null,"skelet",0,0,0]
[null,"Udtagning til 14C- og isotopanalyser","Artsbestememlse og udtagning",{"$f":"'PRISLISTE NAT.'!$E$35&\"-\"&'PRISLISTE NAT.'!$E$33&\" kr.\"","v":"700-842 kr."},null,"prøver",{"$f":"IF(E72=1,'PRISLISTE NAT.'!E33,IF(E72=2,('PRISLISTE NAT.'!E33+'PRISLISTE NAT.'!E34),IF(E72=3,('PRISLISTE NAT.'!E33+'PRISLISTE NAT.'!E34+'PRISLISTE NAT.'!E34),IF(AND(E72>3,E72<100),('PRISLISTE NAT.'!E33+'PRISLISTE NAT.'!E34+'PRISLISTE NAT.'!E34+((E72-3)*'PRISLISTE NAT.'!E35)),IF(E72>=100,(('PRISLISTE NAT.'!E33+'PRISLISTE NAT.'!E34+'PRISLISTE NAT.'!E34+(E72-3)*'PRISLISTE NAT.'!E35)*0.8),)))))","v":0},{"$f":"G72*0.25","v":0},{"$f":"SUM(G72:H72)","v":0}]
[null,"Levering til Zoologisk Museum/ADBOU","Pris pr. sag.",{"$f":"'PRISLISTE NAT.'!E74","v":{"v":1721.25,"d":"1,721.25 kr."}},null,"sag",0,0,0]
[null,"SAMLET",{"$nulls":4},{"$f":"SUM(G62:G73)","v":0},{"$f":"SUM(H62:H73)","v":0},{"$f":"SUM(I62:I73)","v":0}]
[null,"POLLEN"]
[null,"Startgebyr pr. ny sag","      Startgebyr ekskluderes (forsættelse af sag)",null,false,null,{"$f":"IF(E76=TRUE(),,IF(OR(E77>0,E78>0),$I$8*1.5+$D$111,))","v":0},{"$f":"G76*0.25","v":0},{"$f":"SUM(G76:H76)","v":0}]
[null,"Kursorisk gennemsyn","Inkl. præparation",{"$f":"$I$8*4","v":{"v":2754,"d":"2,754.00 kr."}},null,"prøver",{"$f":"D77*E77","v":0},{"$f":"G77*0.25","v":0},0]
[null,"Analyse","Kontakt afdelingen (Tlf. 27 21 99 43)",{"$f":"$I$8*1","v":{"v":688.5,"d":"688.50 kr."}},null,"timer",{"$f":"D78*E78","v":0},0,0]
[null,"Prøveudtagning","2 timer pr. søjle",{"$f":"$I$8*2","v":{"v":1377,"d":"1,377.00 kr."}},null,"søjler",{"$f":"D79*E79","v":0},0,0]
[null,"Frysetørring","Pollensøjle",{"$f":"$I$8*3","v":{"v":2065.5,"d":"2,065.50 kr."}},null,"søjler",{"$f":"D80*E80","v":0},{"$f":"G80*0.25","v":0},{"$f":"SUM(G80:H80)","v":0}]
[null,"SAMLET",{"$nulls":4},{"$f":"SUM(G76:G80)","v":0},{"$f":"SUM(H76:H80)","v":0},{"$f":"SUM(I76:I80)","v":0}]
[null,"NON-POLLEN PALYNOMORPHS (NPP)"]
[null,"Startgebyr pr. ny sag","      Startgebyr ekskluderes (forsættelse af sag)",null,false,null,{"$f":"IF(E83=TRUE(),,IF(OR(E84>0,E85>0),$I$8*1.5+$D$111,))","v":0},{"$f":"G83*0.25","v":0},{"$f":"SUM(G83:H83)","v":0}]
[null,"Kursorisk gennemsyn","Inkl. præparation",{"$f":"$I$8*10","v":{"v":6885,"d":"6,885.00 kr."}},null,"prøver",{"$f":"D84*E84","v":0},{"$f":"G84*0.25","v":0},{"$f":"SUM(G84:H84)","v":0}]
[null,"Analyse","Kontakt afdelingen (Tlf. 27 21 99 43)",{"$f":"$I$8","v":{"v":688.5,"d":"688.50 kr."}},null,"timer",{"$f":"D85*E85","v":0},0,0]
[null,"Prøveudtagning","2 timer pr. søjle",{"$f":"$I$8*2","v":{"v":1377,"d":"1,377.00 kr."}},null,"søjler",{"$f":"D86*E86","v":0},0,0]
[null,"SAMLET",{"$nulls":4},{"$f":"SUM(G83:G86)","v":0},{"$f":"SUM(H83:H86)","v":0},{"$f":"SUM(I83:I86)","v":0}]
[null,"TEFRA"]
[null,"Analyse ","Kontakt afdelingen (Tlf. 87 39 40 41)",{"$f":"$I$8","v":{"v":688.5,"d":"688.50 kr."}},null,"timer",{"$f":"D89*E89","v":0},{"$f":"G89*0.25","v":0},{"$f":"SUM(G89:H89)","v":0}]
[null,"SAMLET",{"$nulls":4},{"$f":"SUM(G89:G89)","v":0},{"$f":"SUM(H89:H89)","v":0},{"$f":"SUM(I89:I89)","v":0}]
[null,"INSEKTER"]
[null,"Startgebyr","      Startgebyr ekskluderes (forsættelse af sag)",null,false,null,{"$f":"IF(E92=TRUE(),,IF(OR(E93>0,E93>0),$I$8*1.5,))","v":0},{"$f":"G92*0.25","v":0},{"$f":"SUM(G92:H92)","v":0}]
[null,"Screening/Kursorisk","Vådsoldning max. 5 liters jordprøve",{"$f":"$I$8*3.5","v":{"v":2409.75,"d":"2,409.75 kr."}},null,"prøver",{"$f":"D93*E93","v":0},{"$f":"G93*0.25","v":0},{"$f":"SUM(G93:H93)","v":0}]
[null,"Analyse","Entomologisk analyse inkl. rapport",{"$f":"'PRISLISTE NAT.'!$E$90","v":{"v":6885,"d":"6,885.00 kr."}},null,"prøver",{"$f":"D94*E94","v":0},0,0]
[null,"SAMLET",{"$nulls":4},{"$f":"SUM(G92:G94)","v":0},{"$f":"SUM(H92:H94)","v":0},{"$f":"SUM(I92:I94)","v":0}]
[null,"SLAGGER"]
[null,"Startgebyr pr. ny sag","      Startgebyr ekskluderes (forsættelse af sag)",null,false,null,{"$f":"IF(E97=TRUE(),,IF(E98>0,$I$8,))","v":0},{"$f":"G97*0.25","v":0},{"$f":"SUM(G97:H97)","v":0}]
[null,"Kursorisk vurdering","Slagger & ovnfrag., eksl. rapport",{"$f":"$I$8","v":{"v":688.5,"d":"688.50 kr."}},null,"timer",{"$f":"D98*E98","v":0},0,0]
[null,"Rapport",{"$nulls":4},{"$f":"IF(E98>0,4*$I$8,)","v":0},0,0]
[null,"SAMLET",{"$nulls":4},{"$f":"SUM(G97:G99)","v":0},{"$f":"SUM(H97:H99)","v":0},{"$f":"SUM(I97:I99)","v":0}]
[null,"TYNDSLIB"]
[null,"Analyse ","Kontakt afdelingen (Tlf. 87 39 40 41)",{"$f":"$I$8","v":{"v":688.5,"d":"688.50 kr."}},null,"timer",{"$f":"D102*E102","v":0},{"$f":"G102*0.25","v":0},{"$f":"SUM(G102:H102)","v":0}]
[null,"SAMLET",{"$nulls":4},{"$f":"SUM(G102:G102)","v":0},{"$f":"SUM(H102:H102)","v":0},{"$f":"SUM(I102:I102)","v":0}]
[null,"CT-SCANNING & RØNTGEN"]
[null,"Startgebyr","      Startgebyr ekskluderes (forsættelse af sag)",null,false,null,{"$f":"IF(E105=TRUE(),,IF(OR(E106>0,E107>0,E108>0),$I$8*2.5,))","v":0},{"$f":"G105*0.25","v":0},{"$f":"SUM(G105:H105)","v":0}]
[null,"CT-scanning","Fx af urner",{"$f":"'PRISLISTE NAT.'!E104","v":{"v":2500,"d":"2,500.00 kr."}},null,"scanningstimer",{"$f":"IF(E106>0,D106*(ROUNDUP(E106/3,0)),)","v":0},{"$f":"G106*0.25","v":0},{"$f":"SUM(G106:H106)","v":0}]
[null,"Mikro CT-scanning ","Fx trægenstande",{"$f":"'PRISLISTE NAT.'!E105","v":{"v":2500,"d":"2,500.00 kr."}},null,"scanningstimer",{"$f":"D107*E107","v":0},{"$f":"G107*0.25","v":0},{"$f":"SUM(G107:H107)","v":0}]
[null,"Kørsel","T/r Moesgård-lokalitet",{"$f":"'PRISLISTE NAT.'!E106","v":{"v":3.81,"d":"3.81 kr."}},null,"km",{"$f":"D108*E108","v":0},{"$f":"G108*0.25","v":0},{"$f":"SUM(G108:H108)","v":0}]
[null,"SAMLET",{"$nulls":4},{"$f":"SUM(G105:G108)","v":0},{"$f":"SUM(H105:H108)","v":0},{"$f":"SUM(I105:I108)","v":0}]
[null,"FORSENDELSE, SAMMENSKRIVNING MM."]
[null,"Forsendelse (pr. sag)","<2kg",{"$f":"'PRISLISTE NAT.'!E108","v":{"v":335,"d":"335.00 kr."}},null,"pakker",{"$f":"D111*E111","v":0},{"$f":"G111*0.25","v":0},{"$f":"SUM(G111:H111)","v":0}]
[null,null,">2kg (Kontakt afdelingen, tlf. 87 39 40 41)",{"$f":"$I$8","v":{"v":688.5,"d":"688.50 kr."}},null,"timer",{"$f":"D112*E112","v":0},0,0]
[null,"Sammenskrivning af rapporter (pr. sag)","Kontakt afdelingen (Tlf. 87 39 40 41)",{"$f":"$I$8","v":{"v":688.5,"d":"688.50 kr."}},null,"timer",{"$f":"D113*E113","v":0},{"$f":"G113*0.25","v":0},{"$f":"SUM(G113:H113)","v":0}]
[null,"SAMLET",{"$nulls":4},{"$f":"SUM(G111:G113)","v":0},{"$f":"SUM(H111:H113)","v":0},{"$f":"SUM(I111:I113)","v":0}]
[null,"SAMLET PRIS FOR NATURVIDENSKAB"]
[null,"KATEGORI",{"$nulls":4},"PRIS EX. MOMS","MOMS","PRIS INKL. MOMS"]
[null,{"$f":"B$10","v":"KONSULENTSERVICE"},"SUM",{"$nulls":3},{"$f":"G$17","v":0},{"$f":"H$17","v":0},0]
[null,{"$f":"B$18","v":"PRØVEFORARBEJDNING"},"SUM",{"$nulls":3},{"$f":"G$22","v":0},{"$f":"H$22","v":0},0]
[null,"KERNEBORINGER","SUM",{"$nulls":3},{"$f":"G$27","v":0},{"$f":"H$27","v":0},{"$f":"I$27","v":0}]
[null,{"$f":"B$28","v":"MAKROFOSSILER"},"SUM",{"$nulls":3},{"$f":"G$37","v":0},{"$f":"H$37","v":0},{"$f":"I$37","v":0}]
[null,{"$f":"\"          KURSORISK\"","v":"          KURSORISK"},{"$nulls":4},{"$f":"SUM(G$29:G$34)","v":0},{"$f":"SUM(H$29:H$34)","v":0},{"$f":"SUM(I$29:I$34)","v":0}]
[null,{"$f":"\"          ANALYSE\"","v":"          ANALYSE"},{"$nulls":4},{"$f":"SUM(G$35:G$36)","v":0},{"$f":"SUM(H$35:H$36)","v":0},0]
[null,{"$f":"B$38","v":"UDTAGNING TIL 14C-DATERING"},"SUM",{"$nulls":3},{"$f":"G$44","v":0},{"$f":"H$44","v":0},0]
[null,{"$f":"B$45","v":"TRÆKUL"},"SUM",{"$nulls":3},{"$f":"G$50","v":0},{"$f":"H$50","v":0},0]
[null,{"$f":"\"          KURSORISK\"","v":"          KURSORISK"},{"$nulls":4},{"$f":"SUM(G$46:G$47)","v":0},{"$f":"SUM(H$46:H$47)","v":0},0]
[null,{"$f":"\"          ANALYSE\"","v":"          ANALYSE"},{"$nulls":4},{"$f":"SUM(G$48:G$49)","v":0},{"$f":"SUM(H$48:H$49)","v":0},0]
[null,{"$f":"B$51","v":"VANDDRUKKENT TRÆ"},"SUM",{"$nulls":3},{"$f":"G$53","v":0},{"$f":"H$53","v":0},0]
[null,{"$f":"B$54","v":"DENDROKRONOLOGI"},"SUM",{"$nulls":3},{"$f":"G60","v":0},{"$f":"H60","v":0},{"$f":"I60","v":0}]
[null,{"$f":"\"          KURSORISK\"","v":"          KURSORISK"},{"$nulls":4},{"$f":"SUM(G$55:G$56)","v":0},{"$f":"SUM(H$55:H$56)","v":0},0]
[null,{"$f":"\"          DATERING\"","v":"          DATERING"},{"$nulls":4},{"$f":"SUM(G$57:G$59)","v":0},{"$f":"SUM(H$57:H$59)","v":0},0]
[null,{"$f":"B$61","v":"KNOGLER"},"SUM",{"$nulls":3},{"$f":"G$74","v":0},{"$f":"H$74","v":0},0]
[null,{"$f":"\"          KURSORISK\"","v":"          KURSORISK"},{"$nulls":4},{"$f":"SUM(G$62:G$65)","v":0},{"$f":"SUM(H$62:H$65)","v":0},{"$f":"SUM(I$62:I$65)","v":0}]
[null,{"$f":"\"          ANALYSE\"","v":"          ANALYSE"},{"$nulls":4},{"$f":"SUM(G$66:G$73)","v":0},{"$f":"SUM(H$66:H$73)","v":0},{"$f":"SUM(I$66:I$73)","v":0}]
[null,{"$f":"B$75","v":"POLLEN"},"SUM",{"$nulls":3},{"$f":"G$81","v":0},{"$f":"H$81","v":0},0]
[null,{"$f":"\"          KURSORISK\"","v":"          KURSORISK"},{"$nulls":4},{"$f":"SUM(G$76:G$77)","v":0},{"$f":"SUM(H$76:H$77)","v":0},{"$f":"SUM(I$76:I$77)","v":0}]
[null,{"$f":"\"          ANALYSE\"","v":"          ANALYSE"},{"$nulls":4},{"$f":"SUM(G$78)","v":0},{"$f":"SUM(H$78)","v":0},0]
[null,{"$f":"\"          FRYSETØRRING\"","v":"          FRYSETØRRING"},{"$nulls":4},{"$f":"SUM(G$80)","v":0},{"$f":"SUM(H$80)","v":0},0]
[null,{"$f":"B$82","v":"NON-POLLEN PALYNOMORPHS (NPP)"},"SUM",{"$nulls":3},{"$f":"G$87","v":0},{"$f":"H$87","v":0},0]
[null,{"$f":"\"          KURSORISK\"","v":"          KURSORISK"},{"$nulls":4},{"$f":"SUM(G$83:G$84)","v":0},{"$f":"SUM(H$83:H$84)","v":0},{"$f":"SUM(I$83:I$84)","v":0}]
[null,{"$f":"\"          ANALYSE\"","v":"          ANALYSE"},{"$nulls":4},{"$f":"SUM(G$85)","v":0},{"$f":"SUM(H$85)","v":0},{"$f":"SUM(I$85)","v":0}]
[null,{"$f":"B$88","v":"TEFRA"},"SUM",{"$nulls":3},{"$f":"G$90","v":0},{"$f":"H$90","v":0},0]
[null,"INSEKTER","SUM",{"$nulls":3},{"$f":"G$95","v":0},{"$f":"H$95","v":0},{"$f":"I$95","v":0}]
[null,{"$f":"\"          KURSORISK\"","v":"          KURSORISK"},{"$nulls":4},{"$f":"SUM(G$92:G$93)","v":0},{"$f":"SUM(H$92:H$93)","v":0},0]
[null,{"$f":"\"          ANALYSE\"","v":"          ANALYSE"},{"$nulls":4},{"$f":"G$94","v":0},{"$f":"H$94","v":0},0]
[null,{"$f":"B$96","v":"SLAGGER"},"SUM",{"$nulls":3},{"$f":"G$100","v":0},{"$f":"H$100","v":0},{"$f":"I$100","v":0}]
[null,"TYNDSLIB","SUM",{"$nulls":3},{"$f":"G$103","v":0},{"$f":"H$103","v":0},0]
[null,"CT-SCANNING & RØNTGEN","SUM",{"$nulls":3},{"$f":"G$109","v":0},{"$f":"H$109","v":0},0]
[null,{"$f":"B$110","v":"FORSENDELSE, SAMMENSKRIVNING MM."},"SUM",{"$nulls":3},{"$f":"G$114","v":0},{"$f":"H$114","v":0},{"$f":"I$114","v":0}]
[null,"SAMLET",{"$nulls":4},{"$f":"SUMIF($C$117:$C$148,\"SUM\",G$117:G$148)","v":0},{"$f":"SUMIF($C$117:$C$148,\"SUM\",H$117:H$148)","v":0},{"$f":"SUMIF($C$117:$C$148,\"SUM\",I$117:I$148)","v":0}]

{"sheet":"PRISOVERSLAG ARKÆO.","index":2,"n_rows":20,"n_cols":7,"rows_kept":20,"merged":[[3,1,3,6]]}
[]
[]
[null,"PRISOVERSLAG ARKÆOBOTANIK - Fund- og anlægseksempler",{"$nulls":4},{"$error":"#VALUE!"}]
[null,"Skemaets beregninger er baseret på priserne fra arket \"Prisliste Naturvidenskab\". \nKolonne C indeholder samlede priser for arkæobotaniske analyser af fund- og anlægseksempler fra kolonne B. Nedenstående priser på arkæobotanisk analyse tager udgangspunkt i en gennemsnitlig bevaring af makrofossiler. Den reelle pris for arkæobotanisk analyse udregnes først efter det kursoriske gennemsyn af prøverne.\nI de gule felter i kolonne D indtastes det ønskede/forventede antal af de relevante fund/anlæg for den givne lokalitet. \nPriserne overføres automatisk til arket \"Prisberegner Naturvidenskab\". "]
[{"$nulls":5},"Timepris (kr. ex. moms):",{"v":688.5,"d":"688.50 kr."}]
[null,"FUND / ANLÆG","PRIS PR. STK.","ANTAL","PRIS EX. MOMS","MOMS","PRIS INKL. MOMS"]
[null,"Brønd og grube - pr. prøve",{"$f":"16*$G$5","v":{"v":11016,"d":"11,016.00 kr."}},null,{"$f":"C7*D7","v":0},{"$f":"E7*0.25","v":0},{"$f":"SUM(E7:F7)","v":0}]
[null,"Grubehus pr. prøve",{"$f":"16*$G$5","v":{"v":11016,"d":"11,016.00 kr."}},null,{"$f":"C8*D8","v":0},{"$f":"E8*0.25","v":0},{"$f":"SUM(E8:F8)","v":0}]
[null,"Hus - Brandtomt",{"$f":"144*$G$5","v":{"v":99144,"d":"99,144.00 kr."}},null,0,0,0]
[null,"Hus - kun tagbærende",{"$f":"64*$G$5","v":{"v":44064,"d":"44,064.00 kr."}},null,0,0,0]
[null,"Hus med gulv/vægkonstruktion",{"$f":"104*$G$5","v":{"v":71604,"d":"71,604.00 kr."}},null,0,0,0]
[null,"Ildsted",{"$f":"16*$G$5","v":{"v":11016,"d":"11,016.00 kr."}},null,{"$f":"C12*D12","v":0},0,0]
[null,"Jernudvindingsovn",{"$f":"24*$G$5","v":{"v":16524,"d":"16,524.00 kr."}},null,{"$f":"C13*D13","v":0},0,{"$f":"SUM(E13:F13)","v":0}]
[null,"Kulturlag i by - pr prøve",{"$f":"24*$G$5","v":{"v":16524,"d":"16,524.00 kr."}},null,0,0,0]
[null,"Kulturlag og køkkenmødding - pr. prøve",{"$f":"24*$G$5","v":{"v":16524,"d":"16,524.00 kr."}},null,0,0,0]
[null,"Latriner - pr. prøve",{"$f":"32*$G$5","v":{"v":22032,"d":"22,032.00 kr."}},null,0,0,0]
[null,"Ovn",{"$f":"40*$G$5","v":{"v":27540,"d":"27,540.00 kr."}},null,0,0,0]
[null,"Staklader, mindre økonomibygninger og hegn",{"$f":"24*$G$5","v":{"v":16524,"d":"16,524.00 kr."}},null,0,0,0]
[]
[null,"SAMLET PRIS ARKÆOBOTANIK",null,null,{"$f":"SUM(E7:E18)","v":0},{"$f":"E20*0.25","v":0},{"$f":"SUM(E20:F20)","v":0}]

{"sheet":"PRISLISTE KONS.","index":3,"n_rows":69,"n_cols":7,"rows_kept":69,"merged":[[2,5,2,6],[4,1,4,4],[5,1,5,2],[7,1,7,6],[13,1,13,6],[18,1,18,6],[20,1,21,1],[22,1,25,1],[23,5,23,6],[24,2,25,2],[27,1,27,6],[32,1,32,6],[37,1,39,1],[38,2,39,2],[40,1,40,6],[42,1,45,1],[46,1,47,1],[49,1,50,1],[51,1,52,1],[53,1,54,1],[55,1,57,1],[58,1,60,1],[62,1,63,1],[64,1,64,6],[65,1,66,1]]}
[]
[]
[null,"PRISLISTE KONSERVERING"]
[]
[null," Priser gældende fra november 2025. Fra 2022 og frem indeksreguleres timeprisen halvårligt den 1/4 og 1/10. \n Alle priser er vejledende og afspejler kun gennemsnitsprisen for en enkelt genstand. Fragmenteringsgraden vil have yderligere indflydelse på prisen. \n Ved flere ensartede genstande vil prisen være reduceret. Man er altid velkommen til (omkostningsfrit) at ringe til afdelingen med sprøgsmål. \n Ret til ændringer forbeholdes."]
[null," Kontakt afdelingen: 87 39 40 44",{"$nulls":3},"Timepris (kr. ex. moms):",{"v":688.5,"d":"688.50 kr."}]
[null,"POST","KOMMENTAR / BESKRIVELSE","PRØVETYPE","TIMEANTAL","PRIS EX.MOMS (kr.)"]
[null,"KONSULENTSERVICE - Vi anbefaler at ansøge om konsulentservice i forbindelse med budgetplanlægning"]
[null,"Strategimøde (telefonisk)","F.eks. via skype",null,null,{"$f":"$G$6","v":{"v":688.5,"d":"688.50 kr."}},"pr. time"]
[null,"Strategimøde i felten","Ekskl. kørsel",null,null,{"$f":"$G$6","v":{"v":688.5,"d":"688.50 kr."}},"pr. time"]
[null,"Prøveudtagning/feltarbejde","Ekskl. kørsel og felttillæg",null,null,{"$f":"$G$6","v":{"v":688.5,"d":"688.50 kr."}},"pr. time"]
[null,"Kørsel","Tur-retur mellem Moesgård og lokalitet",null,null,{"v":3.81,"d":"3.81 kr."},"pr. km"]
[null,"Felttillæg","Ved feltarbejde",null,null,{"v":100,"d":"100.00 kr."},"pr. dag"]
[null,"PRÆPARATOPTAG"]
[null,"Startgebyr",{"$nulls":3},{"$f":"$G$6*1.5","v":{"v":1032.75,"d":"1,032.75 kr."}},"pr. sag"]
[null,"Stort præparat (f.eks. urne, sværd)","Ekskl. kørsel",null,6,{"$f":"$G$6*E16","v":{"v":4131,"d":"4,131.00 kr."}},"pr. præparat"]
[null,"Lille præparat (f.eks. kniv, fibel)","Ekskl. kørsel",null,4,{"$f":"$G$6*E17","v":{"v":2754,"d":"2,754.00 kr."}},"pr. præparat"]
[null,"Kørsel","Tur-retur mellem Moesgård og lokalitet",null,null,{"v":3.81,"d":"3.81 kr."},"pr. km"]
[null,"SÆRLIG DOKUMENTATION "]
[null,"Startgebyr",{"$nulls":3},{"$f":"$G$6*1.5","v":{"v":1032.75,"d":"1,032.75 kr."}},"pr. sag"]
[null,"Mikroskopbilleder ",null,"1. genstand",0.5,{"$f":"$G$6*E21","v":{"v":344.25,"d":"344.25 kr."}},"pr. genstand"]
[{"$nulls":3},"Efterfølgende genstande",0.25,{"$f":"$G$6*E22","v":{"v":172.125,"d":"172.13 kr."}},"pr. genstand"]
[null,"Røntgenbilleder","Præparat med enkelt genstand",null,1.65,{"$f":"$G$6*E23","v":{"v":1136.0249999999999,"d":"1,136.03 kr."}},"pr. genstand"]
[null,null,"Urne eller præparat med flere genstande",null,null,"Kontakt afdelingen (tlf. 87 39 40 44)"]
[null,null,"Fritlagt genstand","1. genstand",0.65,{"$f":"$G$6*E25","v":{"v":447.52500000000003,"d":"447.53 kr."}},"pr. genstand"]
[{"$nulls":3},"Efterfølgende genstande",0.5,{"$f":"$G$6*E26","v":{"v":344.25,"d":"344.25 kr."}},"pr. genstand"]
[null,"3D dokumentation","Henvendelse til Arkæologisk IT (tlf. 87 16 21 76) vedr. priser på feltarbejde, genstande eller præparater",null,null,"Kontakt afdelingen (tlf. 87 39 40 44)"]
[null,"CT-SCANNING"]
[null,"Startgebyr",{"$nulls":3},{"$f":"$G$6*2.5","v":{"v":1721.25,"d":"1,721.25 kr."}},"pr. sag"]
[null,"CT-scanning","Fx urner",null,null,{"v":2500,"d":"2,500.00 kr."},"pr. scanningstime"]
[null,"Mikro CT-scanning ","Fx trægenstande ifbm. dendrokronologi",null,null,{"v":2500,"d":"2,500.00 kr."},"pr. scanningstime"]
[null,"Kørsel","Tur-retur mellem Moesgård og lokalitet",null,null,{"$f":"$F$12","v":{"v":3.81,"d":"3.81 kr."}},"pr. km"]
[null,"MATERIALEANALYSER"]
[null,"Startgebyr",{"$nulls":3},{"$f":"$G$6*1.5","v":{"v":1032.75,"d":"1,032.75 kr."}},"pr. sag"]
[null,"Artsbestemmelse","Af læder og hud",null,4,{"$f":"$G$6*$E35","v":{"v":2754,"d":"2,754.00 kr."}},"pr. prøve"]
[null,"Fiberidentifikation ","Af tekstil og pels",null,4,{"$f":"$G$6*$E36","v":{"v":2754,"d":"2,754.00 kr."}},"pr. prøve"]
[null,"Spottest ","Metalidentifikation",null,4,{"v":2754,"d":"2,754.00 kr."},"pr. prøve"]
[null,"Lipidanalyse","Analyse (eksternt laboratorie): 892,50 euro (6.693,00 kr.) ex.moms.  ",null,null,{"v":6693,"d":"6,693.00 kr."},"pr. prøve"]
[null,null,"Udtagning, forsendelse, og tolkning: 4 t á 605,00 kr. ","1. prøve/genstand",4,{"$f":"$G$6*$E39","v":{"v":2754,"d":"2,754.00 kr."}},"pr. prøve"]
[{"$nulls":3},"Efterfølgende prøver/genstande",null,"Kontakt afdelingen (tlf. 87 39 40 44)"]
[null,"STABILISERENDE KONSERVERING - Vejledende priser for typiske eksempler (inkluderer 1,5 time til opstart, modtagelse, pakning, tilbud- og rapportskrivning)\nAlle genstande pakkes i syrefrie materialer til længerevarende opmagasinering eller efter behov til transport med medfølgende rapport om observationer og klimaanbefalinger"]
[null,"Startgebyr",{"$nulls":3},{"$f":"$G$6*1.5","v":{"v":1032.75,"d":"1,032.75 kr."}},"pr. sag"]
[null,"Jern","Kniv, middelstørrelse",null,9,{"$f":"$G$6*E43","v":{"v":6196.5,"d":"6,196.50 kr."}},"pr. genstand"]
[null,null,"Nitte/søm",null,6,{"$f":"$G$6*E44","v":{"v":4131,"d":"4,131.00 kr."}},"pr. genstand"]
[null,null,"Fibel",null,10,{"$f":"$G$6*E45","v":{"v":6885,"d":"6,885.00 kr."}},"pr. genstand"]
[null,null,"Økse",null,16,{"v":11016,"d":"11,016.00 kr."},"pr. genstand"]
[null,"Bronze ","Fibel, ukompliceret ",null,12,{"v":8262,"d":"8,262.00 kr."},"pr. genstand"]
[null,null,"Mønt",null,8,{"v":5508,"d":"5,508.00 kr."},"pr. genstand"]
[null,"Bly","Vægtlod",null,4,{"v":2754,"d":"2,754.00 kr."},"pr. genstand"]
[null,"Sølv ","Fibel",null,16,{"v":11016,"d":"11,016.00 kr."},"pr. genstand"]
[null,null,"Mønt",null,8,{"v":5508,"d":"5,508.00 kr."},"pr. genstand"]
[null,"Glasperle",null,"1-3. stk.",1,{"v":688.5,"d":"688.50 kr."},"pr. genstand"]
[{"$nulls":3},"Efterfølgende genstande",0.5,{"v":344.25,"d":"344.25 kr."},"pr. genstand"]
[null,"Ravperle",null,"1-3. stk.",2,{"v":1377,"d":"1,377.00 kr."},"pr. genstand"]
[{"$nulls":3},"Efterfølgende genstande",1,{"v":688.5,"d":"688.50 kr."},"pr. genstand"]
[null,"Keramik ","Stabiliserende sammensætning af kar ",null,30,{"v":20655,"d":"20,655.00 kr."},"pr. kar"]
[null,null,"Udgravning af tomt kar",null,6,{"v":4131,"d":"4,131.00 kr."},"pr. kar"]
[null,null,"Udgravning af urne med knogler og genstande ",null,null,"Kontakt afdelingen (tlf. 87 39 40 44)"]
[null,"Ben og tak (tørt)","Nål ",null,2,{"v":1377,"d":"1,377.00 kr."},"pr. genstand"]
[null,null,"Perle",null,2,{"v":1377,"d":"1,377.00 kr."},"pr. genstand"]
[null,null,"Spillebrik",null,3,{"v":2065.5,"d":"2,065.50 kr."},"pr. genstand"]
[null,"Ubrændt ler","Vævevægt e. lign.",null,12,{"v":8262,"d":"8,262.00 kr."},"pr. genstand"]
[null,"Komposit","Jernkniv m. organisk skaft (ex. træ eller ben)",null,24,{"v":16524,"d":"16,524.00 kr."},"pr. genstand"]
[null,null,"Bronzefibel m. organisk materiale (ex. tekstil eller træ)",null,15,{"v":10327.5,"d":"10,327.50 kr."},"pr. genstand"]
[null,"FRYSETØRRING"]
[null,"Vanddrukkent træ","Mindre genstande (ex. åreblad)",null,null,"Kontakt afdelingen (tlf. 87 39 40 44)"]
[null,null,"Større genstande (ex. bygningstømmer)",null,null,"Kontakt afdelingen (tlf. 87 39 40 44)"]
[null,"Læder (vådfundet)","Læderfragmenter (5 stk.)",null,null,"Kontakt afdelingen (tlf. 87 39 40 44)"]
[null,"Tekstil (vådfundet)","5 stk. ",null,null,"Kontakt afdelingen (tlf. 87 39 40 44)"]

{"sheet":"PRISBEREGNER KONS.","index":4,"n_rows":83,"n_cols":9,"rows_kept":83,"merged":[[25,1,27,1],[41,1,42,1],[45,1,48,1],[49,1,50,1],[52,1,53,1],[56,1,58,1],[59,1,61,1],[63,1,64,1],[67,1,68,1]]}
[]
[]
[null,"PRISBEREGNER KONSERVERING",{"$nulls":6},{"$error":"#VALUE!"}]
[]
[null,"Skemaets beregninger er baseret på priserne fra arket \"Prisliste Konservering\". ",{"$nulls":5},"DATO"]
[null,"Skemaet kan benyttes til at udregne priser og skabe overblik over konservering ifm. ansøgninger til Slots- og Kulturstyrelsen. ",{"$nulls":5},"JOURNAL NR."]
[null,"I de gule felter i kolonne E indtastes det ønskede/forventede antal af de relevante ydelser for den givne lokalitet. "]
[{"$nulls":7},"Timepris (kr. ex. moms):",{"v":688.5,"d":"688.50 kr."}]
[null,"POST","PRØVETYPE / KOMMENTAR","PRIS PR. ENHED","ANTAL",null,"PRIS EX. MOMS","MOMS","PRIS INKL. MOMS"]
[null,"KONSULENTSERVICE"]
[null,"Strategimøde (telefonisk)","F.eks. via skype",{"$f":"$I$8","v":{"v":688.5,"d":"688.50 kr."}},null,"timer",{"$f":"D11*E11","v":0},{"$f":"G11*0.25","v":0},{"$f":"SUM(G11:H11)","v":0}]
[null,"Strategimøde i felten","Ekskl. kørsel",{"$f":"$I$8","v":{"v":688.5,"d":"688.50 kr."}},null,"timer",0,0,0]
[null,"Prøveudtagning/feltarbejde","Ekskl. kørsel og felttillæg",{"v":688.5,"d":"688.50 kr."},null,"timer",0,0,0]
[null,"Kørsel","T/r Moesgård-lokalitet",{"$f":"'PRISLISTE KONS.'!F12","v":{"v":3.81,"d":"3.81 kr."}},null,"km",{"$f":"D14*E14","v":0},{"$f":"G14*0.25","v":0},{"$f":"SUM(G14:H14)","v":0}]
[null,"Felttillæg","Pr. dag",100,null,"dage",{"$f":"D15*E15","v":0},{"$f":"G15*0.25","v":0},{"$f":"SUM(G15:H15)","v":0}]
[null,"SAMLET",{"$nulls":4},{"$f":"SUM(G11:G15)","v":0},{"$f":"SUM(H11:H15)","v":0},{"$f":"SUM(I11:I15)","v":0}]
[null,"PRÆPARATOPTAG"]
[null,"Startgebyr",{"$nulls":4},{"$f":"IF(OR(E19>0,E20>0),$I$8*1.5,)","v":0},{"$f":"G18*0.25","v":0},{"$f":"SUM(G18:H18)","v":0}]
[null,"Stort præparat (f.eks. urne, sværd)","Ekskl. kørsel",{"$f":"'PRISLISTE KONS.'!$F$16","v":{"v":4131,"d":"4,131.00 kr."}},null,"præparater",{"$f":"D19*E19","v":0},{"$f":"G19*0.25","v":0},{"$f":"SUM(G19:H19)","v":0}]
[null,"Lille præparat (f.eks. kniv, fibel)","Ekskl. kørsel",{"$f":"'PRISLISTE KONS.'!$F$17","v":{"v":2754,"d":"2,754.00 kr."}},null,"præparater",0,0,0]
[null,"Kørsel","Tur-retur mellem Moesgård og lokalitet",{"$f":"'PRISLISTE KONS.'!F12","v":{"v":3.81,"d":"3.81 kr."}},null,"km",0,{"$f":"G21*0.25","v":0},{"$f":"SUM(G21:H21)","v":0}]
[null,"SAMLET",{"$nulls":4},{"$f":"SUM(G18:G21)","v":0},{"$f":"SUM(H18:H21)","v":0},{"$f":"SUM(I18:I21)","v":0}]
[null,"SÆRLIG DOKUMENTATION "]
[null,"Startgebyr",{"$nulls":4},{"$f":"IF(OR(E25>0,E26>0,E27>0,E28>0,E29>0),$I$8*1.5,)","v":0},{"$f":"G24*0.25","v":0},{"$f":"SUM(G24:H24)","v":0}]
[null,"Mikroskopbilleder ",null,{"$f":"'PRISLISTE KONS.'!F21&\" - \"&'PRISLISTE KONS.'!F22&\" kr.\"","v":"344,25 - 172,125 kr."},null,"genstande",{"$f":"IF(E25=1,($I$8*0.5),IF(E25>1,($I$8*0.5)+(($I$8*0.25)*(E25-1)),))","v":0},{"$f":"G25*0.25","v":0},{"$f":"SUM(G25:H25)","v":0}]
[null,"Røntgenbilleder","Præparat med enkelt genstand",{"$f":"'PRISLISTE KONS.'!F23","v":{"v":1136.0249999999999,"d":"1,136.03 kr."}},null,"genstande",{"$f":"D26*E26","v":0},{"$f":"G26*0.25","v":0},0]
[null,null,"Urne eller præparat med flere genstande. Kontakt afdelingen (tlf. 87 39 40 44)",{"$f":"$I$8+100","v":{"v":788.5,"d":"788.50 kr."}},null,"timer",0,0,0]
[null,null,"Fritlagt genstand",{"$f":"'PRISLISTE KONS.'!F25&\" - \"&'PRISLISTE KONS.'!F26&\" kr.\"","v":"447,525 - 344,25 kr."},null,"genstande",{"$f":"IF(E28=1,($I$8*0.65),IF(E28>1,($I$8*0.65)+(($I$8*0.5)*(E28-1)),))","v":0},0,0]
[null,"3D dokumentation","Kontakt afdelingen (tlf. 87 39 40 44)",{"$f":"$I$8","v":{"v":688.5,"d":"688.50 kr."}},null,"timer",0,0,0]
[null,"SAMLET",{"$nulls":4},{"$f":"SUM(G24:G29)","v":0},{"$f":"G30*0.25","v":0},{"$f":"SUM(G30:H30)","v":0}]
[null,"CT-SCANNING"]
[null,"Startgebyr",{"$nulls":4},{"$f":"IF(OR(E33>0,E34>0,E35>0),$I$8*2.5,)","v":0}]
[null,"CT-scanning","Fx urner",{"$f":"'PRISLISTE KONS.'!F30","v":{"v":2500,"d":"2,500.00 kr."}},null,"scanningstime",{"$f":"D33*E33","v":0},{"$f":"G33*0.25","v":0},{"$f":"SUM(G33:H33)","v":0}]
[null,"Mikro CT-scanning ","Fx trægenstande ifbm. dendrokronologi",{"$f":"'PRISLISTE KONS.'!F31","v":{"v":2500,"d":"2,500.00 kr."}},null,"scanningstime",0,{"$f":"G34*0.25","v":0},0]
[null,"Kørsel","Tur-retur mellem Moesgård og lokalitet",{"$f":"'PRISLISTE KONS.'!F12","v":{"v":3.81,"d":"3.81 kr."}},null,"km",0,0,0]
[null,"SAMLET",{"$nulls":4},{"$f":"SUM(G32:G35)","v":0},{"$f":"SUM(H32:H35)","v":0},{"$f":"SUM(I32:I35)","v":0}]
[null,"MATERIALEANALYSER"]
[null,"Startgebyr",{"$nulls":4},{"$f":"IF(OR(E39>0,E40>0,E41>0,E43>0),$I$8*1.5,)","v":0},{"$f":"G38*0.25","v":0},{"$f":"SUM(G38:H38)","v":0}]
[null,"Artsbestemmelse, ","Af læder og hud",{"$f":"'PRISLISTE KONS.'!F35","v":{"v":2754,"d":"2,754.00 kr."}},null,"prøver",{"$f":"D39*E39","v":0},{"$f":"G39*0.25","v":0},{"$f":"SUM(G39:H39)","v":0}]
[null,"Fiberidentifikation ","Af tekstil og pels",{"$f":"'PRISLISTE KONS.'!F36","v":{"v":2754,"d":"2,754.00 kr."}},null,"prøver",0,{"$f":"G40*0.25","v":0},0]
[null,"Spottest ","Metalidentifikation",{"$f":"'PRISLISTE KONS.'!F37","v":{"v":2754,"d":"2,754.00 kr."}},null,"prøver",0,{"$f":"G41*0.25","v":0},0]
[null,"Lipidanalyse","Analyse (eksternt laboratorie)",{"$f":"'PRISLISTE KONS.'!F38","v":{"v":6693,"d":"6,693.00 kr."}},null,null,{"$f":"D42*E43","v":0},0,0]
[null,null,"Udtagning af materiale, forsendelse og tolkning af resultater",{"$f":"'PRISLISTE KONS.'!F39","v":{"v":2754,"d":"2,754.00 kr."}},null,"prøver",{"$f":"D43*E43","v":0},0,{"$f":"SUM(G43:H43)","v":0}]
[null,"SAMLET",{"$nulls":4},{"$f":"SUM(G38:G43)","v":0},{"$f":"SUM(H38:H43)","v":0},{"$f":"SUM(I38:I43)","v":0}]
[null,"STABILISERENDE KONSERVERING"]
[null,"Jern","Kniv, middelstørrelse",{"$f":"'PRISLISTE KONS.'!F43","v":{"v":6196.5,"d":"6,196.50 kr."}},null,"genstande",{"$f":"IF(E46>1,D46+(($I$8*('PRISLISTE KONS.'!E43-0.5))*(E46-1)),D46*E46)","v":0},{"$f":"G46*0.25","v":0},{"$f":"SUM(G46:H46)","v":0}]
[null,null,"Nitte/søm",{"$f":"'PRISLISTE KONS.'!F44","v":{"v":4131,"d":"4,131.00 kr."}},null,"genstande",{"$f":"IF(E47>1,D47+(($I$8*('PRISLISTE KONS.'!E44-0.5))*(E47-1)),D47*E47)","v":0},0,0]
[null,null,"Fibel",{"$f":"'PRISLISTE KONS.'!F45","v":{"v":6885,"d":"6,885.00 kr."}},null,"genstande",{"$f":"IF(E48>1,D48+(($I$8*('PRISLISTE KONS.'!E45-0.5))*(E48-1)),D48*E48)","v":0},0,0]
[null,null,"Økse",{"$f":"'PRISLISTE KONS.'!F46","v":{"v":11016,"d":"11,016.00 kr."}},null,"genstande",{"$f":"IF(E49>1,D49+(($I$8*('PRISLISTE KONS.'!E46-0.5))*(E49-1)),D49*E49)","v":0},0,0]
[null,"Bronze ","Fibel, ukompliceret",{"$f":"$I$8*'PRISLISTE KONS.'!E47","v":{"v":8262,"d":"8,262.00 kr."}},null,"genstande",{"$f":"IF(E50>1,D50+(D50*(E50-1)*0.9),D50*E50)","v":0},0,0]
[null,null,"Mønt",{"$f":"$I$8*'PRISLISTE KONS.'!E48","v":{"v":5508,"d":"5,508.00 kr."}},null,"genstande",{"$f":"D51*E51","v":0},0,0]
[null,"Bly","Vægtlod",{"$f":"$I$8*'PRISLISTE KONS.'!E49","v":{"v":2754,"d":"2,754.00 kr."}},null,"genstande",{"$f":"IF(E52>1,D52+(D52*(E52-1)*0.9),D52*E52)","v":0},0,0]
[null,"Sølv ","Fibel",{"$f":"$I$8*'PRISLISTE KONS.'!E50","v":{"v":11016,"d":"11,016.00 kr."}},null,"genstande",{"$f":"IF(E53>1,D53+(D53*(E53-1)*0.9),D53*E53)","v":0},0,0]
[null,null,"Mønt",{"$f":"$I$8*'PRISLISTE KONS.'!E51","v":{"v":5508,"d":"5,508.00 kr."}},null,"genstande",{"$f":"D54*E54","v":0},0,0]
[null,"Glas","Perle",{"$f":"'PRISLISTE KONS.'!F52&\" - \"&'PRISLISTE KONS.'!F53&\" kr.\"","v":"688,5 - 344,25 kr."},null,"genstande",{"$f":"IF(E55=1,$I$8,IF(E55=2,($I$8*2),IF(E55=3,($I$8*3),IF(E55>3,($I$8*3)+(E55-3)*($I$8*0.5),))))","v":0},{"$f":"G55*0.25","v":0},0]
[null,"Rav","Perle",{"$f":"'PRISLISTE KONS.'!F54&\" - \"&'PRISLISTE KONS.'!F55&\" kr.\"","v":"1377 - 688,5 kr."},null,"genstande",{"$f":"IF(E56=1,$I$8*2,IF(E56=2,($I$8*4),IF(E56=3,($I$8*6),IF(E56>3,($I$8*6)+(E56-3)*($I$8),))))","v":0},0,0]
[null,"Keramik ","Stabiliserende sammensætning af kar ",{"$f":"$I$8*'PRISLISTE KONS.'!E56","v":{"v":20655,"d":"20,655.00 kr."}},null,"genstande",{"$f":"D57*E57","v":0},0,0]
[null,null,"Udgravning af tomt kar",{"$f":"$I$8*'PRISLISTE KONS.'!E57","v":{"v":4131,"d":"4,131.00 kr."}},null,"genstande",0,0,0]
[null,null,"Udgravning af urne med knogler og genstande. Kontakt afdelingen (tlf. 87 39 40 44)",{"$f":"$I$8","v":{"v":688.5,"d":"688.50 kr."}},null,"timer",{"$f":"D59*E59","v":0},{"$f":"G59*0.25","v":0},{"$f":"SUM(G59:H59)","v":0}]
[null,"Ben og tak (tørt)","Nål",{"$f":"$I$8*'PRISLISTE KONS.'!E59","v":{"v":1377,"d":"1,377.00 kr."}},null,"genstande",{"$f":"IF(E60>1,D60+(D60*(E60-1)*0.5),D60*E60)","v":0},0,0]
[null,null,"Perle",{"$f":"$I$8*'PRISLISTE KONS.'!E60","v":{"v":1377,"d":"1,377.00 kr."}},null,"genstande",{"$f":"IF(E61>1,D61+(D61*(E61-1)*0.5),D61*E61)","v":0},0,0]
[null,null,"Spillebrik",{"$f":"$I$8*'PRISLISTE KONS.'!E61","v":{"v":2065.5,"d":"2,065.50 kr."}},null,"genstande",0,0,0]
[null,"Ubrændt ler","Vævevægt e. lign. ",{"$f":"$I$8*'PRISLISTE KONS.'!E62","v":{"v":8262,"d":"8,262.00 kr."}},null,"genstande",{"$f":"IF(E63>1,D63+(D63*(E63-1)*0.75),D63*E63)","v":0},0,0]
[null,"Komposit","Jernkniv m. organisk skaft ",{"$f":"$I$8*'PRISLISTE KONS.'!E63","v":{"v":16524,"d":"16,524.00 kr."}},null,"genstande",0,0,0]
[null,null,"Bronzefibel m. organisk materiale ",{"$f":"$I$8*'PRISLISTE KONS.'!E64","v":{"v":10327.5,"d":"10,327.50 kr."}},null,"genstande",0,0,0]
[null,"SAMLET",{"$nulls":4},{"$f":"SUM(G46:G65)","v":0},{"$f":"SUM(H46:H65)","v":0},{"$f":"SUM(I46:I65)","v":0}]
[null,"FRYSETØRRING"]
[null,"Vanddrukkent træ","Mindre genstande",{"$f":"$I$8","v":{"v":688.5,"d":"688.50 kr."}},null,"timer",{"$f":"D68*E68","v":0},{"$f":"G68*0.25","v":0},{"$f":"SUM(G68:H68)","v":0}]
[null,null,"Større genstande",{"$f":"$I$8","v":{"v":688.5,"d":"688.50 kr."}},null,"timer",{"$f":"D69*E69","v":0},{"$f":"G69*0.25","v":0},{"$f":"SUM(G69:H69)","v":0}]
[null,"Læder (vådfundet)","Læderfragmenter (5 stk.)",{"$f":"$I$8","v":{"v":688.5,"d":"688.50 kr."}},null,"timer",{"$f":"D70*E70","v":0},{"$f":"G70*0.25","v":0},{"$f":"SUM(G70:H70)","v":0}]
[null,"Tekstil (vådfundet)","5 stk. ",{"$f":"$I$8","v":{"v":688.5,"d":"688.50 kr."}},null,"timer",{"$f":"D71*E71","v":0},{"$f":"G71*0.25","v":0},{"$f":"SUM(G71:H71)","v":0}]
[null,null,"Kontakt afdelingen (tlf. 87 39 40 44)"]
[null,"SAMLET",{"$nulls":4},{"$f":"SUM(G68:G72)","v":0},{"$f":"SUM(H68:H72)","v":0},0]
[null,"SAMLET PRIS FOR KONSERVERING"]
[null,"KATEGORI",{"$nulls":4},"PRIS EX. MOMS","MOMS","PRIS INKL. MOMS"]
[null,{"$f":"B$10","v":"KONSULENTSERVICE"},{"$nulls":4},{"$f":"G$16","v":0},{"$f":"H$16","v":0},0]
[null,{"$f":"B$17","v":"PRÆPARATOPTAG"},{"$nulls":4},{"$f":"G$22","v":0},{"$f":"H$22","v":0},0]
[null,{"$f":"B$23","v":"SÆRLIG DOKUMENTATION "},{"$nulls":4},{"$f":"G$30","v":0},{"$f":"H$30","v":0},0]
[null,"CT-SCANNING",{"$nulls":4},{"$f":"G$36","v":0},{"$f":"H$36","v":0},{"$f":"I$36","v":0}]
[null,{"$f":"B$37","v":"MATERIALEANALYSER"},{"$nulls":4},{"$f":"G$44","v":0},{"$f":"H$44","v":0},0]
[null,{"$f":"B$45","v":"STABILISERENDE KONSERVERING"},{"$nulls":4},{"$f":"G$66","v":0},{"$f":"H$66","v":0},{"$f":"I$66","v":0}]
[null,"FRYSETØRRING",{"$nulls":4},{"$f":"G$73","v":0},{"$f":"H$73","v":0},{"$f":"I$73","v":0}]
[null,"SAMLET",{"$nulls":4},{"$f":"SUM(G76:G82)","v":0},{"$f":"SUM(H76:H82)","v":0},{"$f":"SUM(I76:I82)","v":0}]

{"sheet":"LOG","index":5,"n_rows":8,"n_cols":2,"rows_kept":8,"hidden":true,"merged":[[1,0,4,0],[5,0,6,0]]}
["Opdateringer","Bemærkninger"]
["2024-04-01","Indeksreguleret til timepris 665."]
[null,"Tilføjet mulighed for at fjerne startgebyr ved fortsættelse af sager."]
[null,"Lipidanalyser (konservering) er rattet jf. Helles analysebeskrivelse"]
[null,"Fil er nu gemt i mappe kaldet \"Aktuel prisliste\" med generisk titel \"Priser Konservering & Naturvidenskab (låst)\". Ved næste opdatering udskiftes filen men samme navn benyttes så genvejene forhåbentlig ikke brydes."]
["2025-02-01","Alt Materialeanlyse fjernes fra priser"]
[null,"Farver opdateres til Moesgaard farvepaletten og der tilføjer Moesgaard logo"]
["2025-04-01","Ønskede ændring lavet. Fx kerneboringer tilføjet, knogler ændret en del."]